BEGIN:VCALENDAR
VERSION:2.0
PRODID:-//Tukios.com/
BEGIN:VEVENT
UID:4980be52-9e85-4af4-9546-3e6c88570844@www.nauglefcs.com
DTSTAMP:20260423T171505Z
DTSTART:20260505T150000Z
DTEND:20260505T154500Z
SUMMARY:Memorial Service
DESCRIPTION:
URL:https://www.nauglefcs.com/obituaries/mary-gluck
LOCATION:Naugle Funeral & Cremation Service 135 W. Pumping Station Rd.  
	Quakertown PA 18951
GEO:40.4606835;-75.361195
END:VEVENT
END:VCALENDAR