BEGIN:VCALENDAR
VERSION:2.0
PRODID:-//Tukios.com/
BEGIN:VEVENT
UID:a128669b-3a51-425e-8441-af675da92229@www.nauglefcs.com
DTSTAMP:20260421T160353Z
DTSTART:20260423T150000Z
DTEND:20260423T154500Z
SUMMARY:Funeral Service
DESCRIPTION:
URL:https://www.nauglefcs.com/obituaries/richard-lee-gross
LOCATION:Naugle Funeral & Cremation Service 135 W. Pumping Station Rd.  
	Quakertown PA 18951
GEO:40.4606835;-75.361195
END:VEVENT
END:VCALENDAR