BEGIN:VCALENDAR
VERSION:2.0
PRODID:-//Tukios.com/
BEGIN:VEVENT
UID:90bbd750-93b4-4b61-8fdc-bef8d193c163@www.nauglefcs.com
DTSTAMP:20260421T155705Z
DTSTART:20260423T140000Z
DTEND:20260423T150000Z
SUMMARY:Public Viewing
DESCRIPTION:
URL:https://www.nauglefcs.com/obituaries/richard-lee-gross
LOCATION:Naugle Funeral & Cremation Service 135 W. Pumping Station Rd.  
	Quakertown PA 18951
GEO:40.4606835;-75.361195
END:VEVENT
END:VCALENDAR