BEGIN:VCALENDAR
VERSION:2.0
PRODID:-//Tukios.com/
BEGIN:VEVENT
UID:85465ae9-fb8d-450e-aded-b27bf0ed16f7@www.nauglefcs.com
DTSTAMP:20260422T195528Z
DTSTART:20260502T150000Z
DTEND:20260502T154500Z
SUMMARY:Memorial Service
DESCRIPTION:
URL:https://www.nauglefcs.com/obituaries/rose-collins
LOCATION:Naugle Funeral & Cremation Service 135 W. Pumping Station Rd.  
	Quakertown PA 18951
GEO:40.4606835;-75.361195
END:VEVENT
END:VCALENDAR