BEGIN:VCALENDAR
VERSION:2.0
PRODID:-//Tukios.com/
BEGIN:VEVENT
UID:ad8ef95c-00c9-4b40-af1d-e420b28c3a4c@www.nauglefcs.com
DTSTAMP:20260423T005726Z
DTSTART:20260518T150000Z
DTEND:20260518T160000Z
SUMMARY:Visitation
DESCRIPTION:
URL:https://www.nauglefcs.com/obituaries/siani-townsend
LOCATION:Naugle Funeral & Cremation Service 135 W Pumping Station Rd  
	Quakertown PA 18951
GEO:40.4597783;-75.3607771
END:VEVENT
END:VCALENDAR