BEGIN:VCALENDAR
VERSION:2.0
PRODID:-//Tukios.com/
BEGIN:VEVENT
UID:c87dad73-d88e-4fda-8ecb-05165b2f4e72@www.nauglefcs.com
DTSTAMP:20260423T005231Z
DTSTART:20260518T160000Z
DTEND:20260518T170000Z
SUMMARY:Celebration of Life
DESCRIPTION:
URL:https://www.nauglefcs.com/obituaries/siani-townsend
LOCATION:Naugle Funeral & Cremation Service 135 W Pumping Station Rd  
	Quakertown PA 18951
GEO:40.4597783;-75.3607771
END:VEVENT
END:VCALENDAR